BEGIN:VCALENDAR
VERSION:2.0
BEGIN:VEVENT
DTSTART;TZID=Europe/Stockholm:20240201T183000
DTEND;TZID=Europe/Stockholm:20240201T193000
DTSTAMP:20260424T053139
DESCRIPTION:
SEQUENCE:0
SUMMARY:SCOUT
UID:5576@lawebb.se
END:VEVENT
END:VCALENDAR