BEGIN:VCALENDAR
VERSION:2.0
BEGIN:VEVENT
DTSTART;TZID=Europe/Stockholm:20240211T100000
DTEND;TZID=Europe/Stockholm:20240211T110000
DTSTAMP:20260424T053427
DESCRIPTION:
SEQUENCE:0
SUMMARY:GUDSTJÄNST
UID:5759@lawebb.se
END:VEVENT
END:VCALENDAR