BEGIN:VCALENDAR
VERSION:2.0
BEGIN:VEVENT
DTSTART;TZID=Europe/Stockholm:20240212T100000
DTEND;TZID=Europe/Stockholm:20240212T110000
DTSTAMP:20260424T053646
DESCRIPTION:
SEQUENCE:0
SUMMARY:MÅNDAGSCAFÉ
UID:3382@lawebb.se
END:VEVENT
END:VCALENDAR