BEGIN:VCALENDAR
VERSION:2.0
BEGIN:VEVENT
DTSTART;TZID=Europe/Stockholm:20240219T100000
DTEND;TZID=Europe/Stockholm:20240219T110000
DTSTAMP:20260424T053551
DESCRIPTION:
SEQUENCE:0
SUMMARY:MÅNDAGSCAFÉ
UID:2868@lawebb.se
END:VEVENT
END:VCALENDAR