BEGIN:VCALENDAR
VERSION:2.0
BEGIN:VEVENT
DTSTART;TZID=Europe/Stockholm:20240220T090000
DTEND;TZID=Europe/Stockholm:20240220T100000
DTSTAMP:20260424T053754
DESCRIPTION:
SEQUENCE:0
SUMMARY:SYTRÄFF
UID:5456@lawebb.se
END:VEVENT
END:VCALENDAR