BEGIN:VCALENDAR
VERSION:2.0
BEGIN:VEVENT
DTSTART;TZID=Europe/Stockholm:20240222T183000
DTEND;TZID=Europe/Stockholm:20240222T193000
DTSTAMP:20260424T053345
DESCRIPTION:
SEQUENCE:0
SUMMARY:SCOUT
UID:7976@lawebb.se
END:VEVENT
END:VCALENDAR