BEGIN:VCALENDAR
VERSION:2.0
BEGIN:VEVENT
DTSTART;TZID=Europe/Stockholm:20241204T183000
DTEND;TZID=Europe/Stockholm:20241204T193000
DTSTAMP:20260423T162418
DESCRIPTION:Sven-Ove Svensson och Thomas Claesson.
SEQUENCE:0
SUMMARY:ALPHAKURS
UID:6837@lawebb.se
END:VEVENT
END:VCALENDAR