BEGIN:VCALENDAR
VERSION:2.0
BEGIN:VEVENT
DTSTART;TZID=Europe/Stockholm:20250106T150000
DTEND;TZID=Europe/Stockholm:20250106T160000
DTSTAMP:20260423T143849
DESCRIPTION:Trettondag jul. Sven-Ove Svensson. Återblickar från året som gått. Servering och lekar.
SEQUENCE:0
SUMMARY:FÖRSAMLINGENS JULFEST
UID:8873@lawebb.se
END:VEVENT
END:VCALENDAR