BEGIN:VCALENDAR
VERSION:2.0
BEGIN:VEVENT
DTSTART;TZID=Europe/Stockholm:20250112T100000
DTEND;TZID=Europe/Stockholm:20250112T110000
DTSTAMP:20260423T143351
DESCRIPTION:Predikan Sven-Ove Svensson. Gunnar Nehlin. Musik Anita Skoog.
SEQUENCE:0
SUMMARY:GUDSTJÄNST MED NATTVARD
UID:9263@lawebb.se
END:VEVENT
END:VCALENDAR