BEGIN:VCALENDAR
VERSION:2.0
BEGIN:VEVENT
DTSTART;TZID=Europe/Stockholm:20250113T100000
DTEND;TZID=Europe/Stockholm:20250113T110000
DTSTAMP:20260423T143849
DESCRIPTION:
SEQUENCE:0
SUMMARY:MÅNDAGSCAFÉ
UID:7294@lawebb.se
END:VEVENT
END:VCALENDAR