BEGIN:VCALENDAR
VERSION:2.0
BEGIN:VEVENT
DTSTART;TZID=Europe/Stockholm:20250113T191500
DTEND;TZID=Europe/Stockholm:20250113T201500
DTSTAMP:20260423T143417
DESCRIPTION:
SEQUENCE:0
SUMMARY:INFOGRUPP
UID:5884@lawebb.se
END:VEVENT
END:VCALENDAR