BEGIN:VCALENDAR
VERSION:2.0
BEGIN:VEVENT
DTSTART;TZID=Europe/Stockholm:20250114T183000
DTEND;TZID=Europe/Stockholm:20250114T193000
DTSTAMP:20260423T143508
DESCRIPTION:
SEQUENCE:0
SUMMARY:STYRELSEMÖTE
UID:4223@lawebb.se
END:VEVENT
END:VCALENDAR