BEGIN:VCALENDAR
VERSION:2.0
BEGIN:VEVENT
DTSTART;TZID=Europe/Stockholm:20250115T183000
DTEND;TZID=Europe/Stockholm:20250115T193000
DTSTAMP:20260423T143757
DESCRIPTION:Sven-Ove Svensson och Thomas Claesson.
SEQUENCE:0
SUMMARY:ALPHAKURS
UID:5338@lawebb.se
END:VEVENT
END:VCALENDAR