BEGIN:VCALENDAR
VERSION:2.0
BEGIN:VEVENT
DTSTART;TZID=Europe/Stockholm:20250116T200000
DTEND;TZID=Europe/Stockholm:20250116T210000
DTSTAMP:20260423T143418
DESCRIPTION:
SEQUENCE:0
SUMMARY:FÖRENINGSSTYRELSE
UID:6723@lawebb.se
END:VEVENT
END:VCALENDAR