BEGIN:VCALENDAR
VERSION:2.0
BEGIN:VEVENT
DTSTART;TZID=Europe/Stockholm:20250118T000000
DTEND;TZID=Europe/Stockholm:20250118T240000
DTSTAMP:20260423T143823
DESCRIPTION:18-25 januari.
SEQUENCE:0
SUMMARY:EKUMENISK BÖNEVECKA
UID:2295@lawebb.se
END:VEVENT
END:VCALENDAR