BEGIN:VCALENDAR
VERSION:2.0
BEGIN:VEVENT
DTSTART;TZID=Europe/Stockholm:20250119T000000
DTEND;TZID=Europe/Stockholm:20250119T240000
DTSTAMP:20260423T143700
DESCRIPTION:
SEQUENCE:0
SUMMARY:INGEN GUDSTJÄNST I ODALKYRKAN
UID:8594@lawebb.se
END:VEVENT
END:VCALENDAR