BEGIN:VCALENDAR
VERSION:2.0
BEGIN:VEVENT
DTSTART;TZID=Europe/Stockholm:20250119T170000
DTEND;TZID=Europe/Stockholm:20250119T180000
DTSTAMP:20260423T143351
DESCRIPTION:Pingstkyrkan Näsby. Inledning av Böneveckan för kristen enhet. Predikan: kyrkoherde Beatrice Vall. Sång av RPG-kören. Ledning: Pastor David Svärd. Kollekt till Svenska Bibelsällskapet. Kyrkkaffe.
SEQUENCE:0
SUMMARY:EKUMENISK GUDSTJÄNST
UID:8359@lawebb.se
END:VEVENT
END:VCALENDAR