BEGIN:VCALENDAR
VERSION:2.0
BEGIN:VEVENT
DTSTART;TZID=Europe/Stockholm:20250121T090000
DTEND;TZID=Europe/Stockholm:20250121T100000
DTSTAMP:20260423T143519
DESCRIPTION:
SEQUENCE:0
SUMMARY:SYTRÄFF
UID:4549@lawebb.se
END:VEVENT
END:VCALENDAR