BEGIN:VCALENDAR
VERSION:2.0
BEGIN:VEVENT
DTSTART;TZID=Europe/Stockholm:20250122T140000
DTEND;TZID=Europe/Stockholm:20250122T150000
DTSTAMP:20260423T143834
DESCRIPTION:ELF kapellet. Alve Svensson ”Bön - när det är omöjligt att hitta ord!” Samverkan RPG och ELF. Servering.
SEQUENCE:0
SUMMARY:RPG-TRÄFF
UID:7338@lawebb.se
END:VEVENT
END:VCALENDAR