BEGIN:VCALENDAR
VERSION:2.0
BEGIN:VEVENT
DTSTART;TZID=Europe/Stockholm:20250123T183000
DTEND;TZID=Europe/Stockholm:20250123T193000
DTSTAMP:20260423T143546
DESCRIPTION:
SEQUENCE:0
SUMMARY:LEDARSAMLING
UID:9892@lawebb.se
END:VEVENT
END:VCALENDAR