BEGIN:VCALENDAR
VERSION:2.0
BEGIN:VEVENT
DTSTART;TZID=Europe/Stockholm:20250124T193000
DTEND;TZID=Europe/Stockholm:20250124T203000
DTSTAMP:20260423T143508
DESCRIPTION:Östermalmskyrkan och senare Stora Torg. Samling med bön, undervisning, sång  och förberedelser inför Aktion på Stora Torg 22.30.  Där bjuder vi på fika, delar ut litteratur, samtalar och ber tillsammans med dem vi möter. &#34;Älska Kristianstad!&#34;
SEQUENCE:0
SUMMARY:ÄLSKA KRISTIANSTAD
UID:7743@lawebb.se
END:VEVENT
END:VCALENDAR