BEGIN:VCALENDAR
VERSION:2.0
BEGIN:VEVENT
DTSTART;TZID=Europe/Stockholm:20250126T100000
DTEND;TZID=Europe/Stockholm:20250126T110000
DTSTAMP:20260423T143720
DESCRIPTION:Predikan Sven-Ove Svensson. Mia Fröjd. Musik Lars Danielsson och Lennart Nalerius. 
Gudstjänstledarsamling efter gudstjänsten.
SEQUENCE:0
SUMMARY:GUDSTJÄNST
UID:7338@lawebb.se
END:VEVENT
END:VCALENDAR