BEGIN:VCALENDAR
VERSION:2.0
BEGIN:VEVENT
DTSTART;TZID=Europe/Stockholm:20250129T140000
DTEND;TZID=Europe/Stockholm:20250129T150000
DTSTAMP:20260423T143518
DESCRIPTION:Sven-Ove Svensson berättar och visar bilder från pilgrimsvandringen på El Camino. Fika.
SEQUENCE:0
SUMMARY:MÖTESPLATS ODALKYRKAN
UID:6956@lawebb.se
END:VEVENT
END:VCALENDAR