BEGIN:VCALENDAR
VERSION:2.0
BEGIN:VEVENT
DTSTART;TZID=Europe/Stockholm:20250130T183000
DTEND;TZID=Europe/Stockholm:20250130T193000
DTSTAMP:20260423T143518
DESCRIPTION:Terminsstart.
SEQUENCE:0
SUMMARY:SCOUT
UID:8657@lawebb.se
END:VEVENT
END:VCALENDAR