BEGIN:VCALENDAR
VERSION:2.0
BEGIN:VEVENT
DTSTART;TZID=Europe/Stockholm:20250204T090000
DTEND;TZID=Europe/Stockholm:20250204T100000
DTSTAMP:20260423T131249
DESCRIPTION:
SEQUENCE:0
SUMMARY:SYTRÄFF
UID:4276@lawebb.se
END:VEVENT
END:VCALENDAR