BEGIN:VCALENDAR
VERSION:2.0
BEGIN:VEVENT
DTSTART;TZID=Europe/Stockholm:20250209T100000
DTEND;TZID=Europe/Stockholm:20250209T110000
DTSTAMP:20260423T131957
DESCRIPTION:Predikan Gunnar Nehlin. Maria Fröjd. Musik Anita Skoog.
SEQUENCE:0
SUMMARY:GUDSTJÄNST
UID:4887@lawebb.se
END:VEVENT
END:VCALENDAR