BEGIN:VCALENDAR
VERSION:2.0
BEGIN:VEVENT
DTSTART;TZID=Europe/Stockholm:20250211T090000
DTEND;TZID=Europe/Stockholm:20250211T100000
DTSTAMP:20260423T131324
DESCRIPTION:
SEQUENCE:0
SUMMARY:SYTRÄFF
UID:5898@lawebb.se
END:VEVENT
END:VCALENDAR