BEGIN:VCALENDAR
VERSION:2.0
BEGIN:VEVENT
DTSTART;TZID=Europe/Stockholm:20250212T183000
DTEND;TZID=Europe/Stockholm:20250212T193000
DTSTAMP:20260423T131922
DESCRIPTION:Sven-Ove Svensson och Thomas Claesson
SEQUENCE:0
SUMMARY:ALPHAKURS
UID:2689@lawebb.se
END:VEVENT
END:VCALENDAR