BEGIN:VCALENDAR
VERSION:2.0
BEGIN:VEVENT
DTSTART;TZID=Europe/Stockholm:20250213T183000
DTEND;TZID=Europe/Stockholm:20250213T193000
DTSTAMP:20260423T131458
DESCRIPTION:
SEQUENCE:0
SUMMARY:SCOUT
UID:8655@lawebb.se
END:VEVENT
END:VCALENDAR