BEGIN:VCALENDAR
VERSION:2.0
BEGIN:VEVENT
DTSTART;TZID=Europe/Stockholm:20250216T100000
DTEND;TZID=Europe/Stockholm:20250216T110000
DTSTAMP:20260423T131644
DESCRIPTION:Predikan Jan Bergils. Musik och sång Lars Danielsson.
SEQUENCE:0
SUMMARY:GUDSTJÄNST
UID:4296@lawebb.se
END:VEVENT
END:VCALENDAR