BEGIN:VCALENDAR
VERSION:2.0
BEGIN:VEVENT
DTSTART;TZID=Europe/Stockholm:20250223T100000
DTEND;TZID=Europe/Stockholm:20250223T110000
DTSTAMP:20260423T131554
DESCRIPTION:Predikan Sven-Ove Svensson. Musik Anita Skoog.
SEQUENCE:0
SUMMARY:GUDSTJÄNST
UID:8523@lawebb.se
END:VEVENT
END:VCALENDAR