BEGIN:VCALENDAR
VERSION:2.0
BEGIN:VEVENT
DTSTART;TZID=Europe/Stockholm:20250225T090000
DTEND;TZID=Europe/Stockholm:20250225T100000
DTSTAMP:20260423T131302
DESCRIPTION:
SEQUENCE:0
SUMMARY:SYTRÄFF
UID:9624@lawebb.se
END:VEVENT
END:VCALENDAR