BEGIN:VCALENDAR
VERSION:2.0
BEGIN:VEVENT
DTSTART;TZID=Europe/Stockholm:20250226T140000
DTEND;TZID=Europe/Stockholm:20250226T150000
DTSTAMP:20260423T131950
DESCRIPTION:Bengt Jönsson visar bilder och berättar om Vilans historia. Servering. Arr. Kristianstads kommun.
SEQUENCE:0
SUMMARY:MÖTESPLATS ODALKYRKAN
UID:2665@lawebb.se
END:VEVENT
END:VCALENDAR