BEGIN:VCALENDAR
VERSION:2.0
BEGIN:VEVENT
DTSTART;TZID=Europe/Stockholm:20250302T100000
DTEND;TZID=Europe/Stockholm:20250302T110000
DTSTAMP:20260423T115400
DESCRIPTION:Predikan Sven-Ove Svensson. Per-Arne Anderson. Musik Anita Skoog.
SEQUENCE:0
SUMMARY:GUDSTJÄNST MED NATTVARD
UID:7546@lawebb.se
END:VEVENT
END:VCALENDAR