BEGIN:VCALENDAR
VERSION:2.0
BEGIN:VEVENT
DTSTART;TZID=Europe/Stockholm:20250305T183000
DTEND;TZID=Europe/Stockholm:20250305T193000
DTSTAMP:20260423T120008
DESCRIPTION:
SEQUENCE:0
SUMMARY:STYRELSEMÖTE
UID:6526@lawebb.se
END:VEVENT
END:VCALENDAR