BEGIN:VCALENDAR
VERSION:2.0
BEGIN:VEVENT
DTSTART;TZID=Europe/Stockholm:20250306T140000
DTEND;TZID=Europe/Stockholm:20250306T150000
DTSTAMP:20260423T120030
DESCRIPTION:Vilans församlingshem. Information Michael Anefur ”Framtidens omsorg, vad kan vi förvänta oss?” Kaffe.
SEQUENCE:0
SUMMARY:RPG ÅRSMÖTE
UID:2328@lawebb.se
END:VEVENT
END:VCALENDAR