BEGIN:VCALENDAR
VERSION:2.0
BEGIN:VEVENT
DTSTART;TZID=Europe/Stockholm:20250309T100000
DTEND;TZID=Europe/Stockholm:20250309T110000
DTSTAMP:20260423T120302
DESCRIPTION:Predikan Mats Aronsson. Sara Gillsjö. Musik Lars Danielsson.
SEQUENCE:0
SUMMARY:GUDSTJÄNST
UID:6954@lawebb.se
END:VEVENT
END:VCALENDAR