BEGIN:VCALENDAR
VERSION:2.0
BEGIN:VEVENT
DTSTART;TZID=Europe/Stockholm:20250312T183000
DTEND;TZID=Europe/Stockholm:20250312T193000
DTSTAMP:20260423T120029
DESCRIPTION:Kl. 18.30-21.00 i Vinslövs Missionskyrka. Inspirationsträff för närområde Mitt. Medverkan av Lasse Svensson och Dan-Inge Olsson. Fika, seminarium och gudstjänst.
SEQUENCE:0
SUMMARY:INSPIRATIONSTRÄFF
UID:7775@lawebb.se
END:VEVENT
END:VCALENDAR