BEGIN:VCALENDAR
VERSION:2.0
BEGIN:VEVENT
DTSTART;TZID=Europe/Stockholm:20250314T100000
DTEND;TZID=Europe/Stockholm:20250314T110000
DTSTAMP:20260423T120154
DESCRIPTION:Hässleholms Missionskyrka.
SEQUENCE:0
SUMMARY:RPG DISTRIKT ÅRSMÖTE
UID:9248@lawebb.se
END:VEVENT
END:VCALENDAR