BEGIN:VCALENDAR
VERSION:2.0
BEGIN:VEVENT
DTSTART;TZID=Europe/Stockholm:20250316T113000
DTEND;TZID=Europe/Stockholm:20250316T123000
DTSTAMP:20260423T115930
DESCRIPTION:
SEQUENCE:0
SUMMARY:FÖRSAMLINGENS ÅRSMÖTE
UID:6693@lawebb.se
END:VEVENT
END:VCALENDAR