BEGIN:VCALENDAR
VERSION:2.0
BEGIN:VEVENT
DTSTART;TZID=Europe/Stockholm:20250316T100000
DTEND;TZID=Europe/Stockholm:20250316T110000
DTSTAMP:20260423T120340
DESCRIPTION:Predikan Sven-Ove Svensson. Maria Fröjd. Musik Anita Skoog. Servering.
SEQUENCE:0
SUMMARY:GUDSTJÄNST
UID:2673@lawebb.se
END:VEVENT
END:VCALENDAR