BEGIN:VCALENDAR
VERSION:2.0
BEGIN:VEVENT
DTSTART;TZID=Europe/Stockholm:20250318T090000
DTEND;TZID=Europe/Stockholm:20250318T100000
DTSTAMP:20260423T115714
DESCRIPTION:
SEQUENCE:0
SUMMARY:SYTRÄFF
UID:2479@lawebb.se
END:VEVENT
END:VCALENDAR