BEGIN:VCALENDAR
VERSION:2.0
BEGIN:VEVENT
DTSTART;TZID=Europe/Stockholm:20250318T200000
DTEND;TZID=Europe/Stockholm:20250318T210000
DTSTAMP:20260423T115638
DESCRIPTION:
SEQUENCE:0
SUMMARY:FÖRENINGSSTYRELSE
UID:5792@lawebb.se
END:VEVENT
END:VCALENDAR