BEGIN:VCALENDAR
VERSION:2.0
BEGIN:VEVENT
DTSTART;TZID=Europe/Stockholm:20250320T140000
DTEND;TZID=Europe/Stockholm:20250320T150000
DTSTAMP:20260423T120329
DESCRIPTION:Odalkyrkan. Dan-Inge Olsson ”Håll mitt hjärta!” Sång, musik och berättelser i en salig blandning.
SEQUENCE:0
SUMMARY:RPG-TRÄFF
UID:2339@lawebb.se
END:VEVENT
END:VCALENDAR