BEGIN:VCALENDAR
VERSION:2.0
BEGIN:VEVENT
DTSTART;TZID=Europe/Stockholm:20250324T100000
DTEND;TZID=Europe/Stockholm:20250324T110000
DTSTAMP:20260423T115504
DESCRIPTION:
SEQUENCE:0
SUMMARY:MÅNDAGSCAFÉ
UID:8594@lawebb.se
END:VEVENT
END:VCALENDAR