BEGIN:VCALENDAR
VERSION:2.0
BEGIN:VEVENT
DTSTART;TZID=Europe/Stockholm:20250325T183000
DTEND;TZID=Europe/Stockholm:20250325T193000
DTSTAMP:20260423T115941
DESCRIPTION:
SEQUENCE:0
SUMMARY:STYRELSEMÖTE
UID:8734@lawebb.se
END:VEVENT
END:VCALENDAR