BEGIN:VCALENDAR
VERSION:2.0
BEGIN:VEVENT
DTSTART;TZID=Europe/Stockholm:20250326T183000
DTEND;TZID=Europe/Stockholm:20250326T193000
DTSTAMP:20260423T115839
DESCRIPTION:Sven-Ove Svensson och Thomas Claesson.
SEQUENCE:0
SUMMARY:ALPHAKURS
UID:6399@lawebb.se
END:VEVENT
END:VCALENDAR