BEGIN:VCALENDAR
VERSION:2.0
BEGIN:VEVENT
DTSTART;TZID=Europe/Stockholm:20250326T140000
DTEND;TZID=Europe/Stockholm:20250326T150000
DTSTAMP:20260423T120156
DESCRIPTION:Servering. Arr. Kristianstads kommun.
SEQUENCE:0
SUMMARY:MÖTESPLATS ODALKYRKAN
UID:6733@lawebb.se
END:VEVENT
END:VCALENDAR