BEGIN:VCALENDAR
VERSION:2.0
BEGIN:VEVENT
DTSTART;TZID=Europe/Stockholm:20250327T183000
DTEND;TZID=Europe/Stockholm:20250327T193000
DTSTAMP:20260423T115931
DESCRIPTION:
SEQUENCE:0
SUMMARY:ÅRSMÖTE EQUMENIA KRISTIANSTAD
UID:8563@lawebb.se
END:VEVENT
END:VCALENDAR