BEGIN:VCALENDAR
VERSION:2.0
BEGIN:VEVENT
DTSTART;TZID=Europe/Stockholm:20250330T100000
DTEND;TZID=Europe/Stockholm:20250330T110000
DTSTAMP:20260423T120124
DESCRIPTION:Predikan Sven-Ove Svensson. Servering.
SEQUENCE:0
SUMMARY:GUDSTJÄNST MED SCOUTERNA
UID:3577@lawebb.se
END:VEVENT
END:VCALENDAR